BEGIN:VCALENDAR
VERSION:2.0
PRODID:-//ERT//LNF26//DE
VERSION:2.0
BEGIN:VEVENT
UID:station_7613_20260324T160000Z
DTSTAMP:20260424T085800Z
URL:https://ert.langenachtderforschung.at/station/7613
DTSTART:20260324T160000Z
DTEND:20260424T210000Z
SUMMARY:[LNF26] CAR-T Zellen 2.0 - Immunzellen gegen Krebs trainieren
DESCRIPTION:Die CAR T-Zelltherapie kommt bei versch. Krebserkrankungen zum Einsatz und ist ein Paradebeispiel für Präzisionsmedizin. Welche Herausforderungen es in dem Feld derzeit noch gibt und wie CAR T-Zellen die Zukunft der Forschung verbessern sollen, wird anhand von vielen interaktiven Mitmach-Aktionen gezeigt. Werde selbst zum Forscher/zur Forscherin und übe dich im Pipettieren und CAR T-Zelle bauen.
LOCATION:Lazarettgassenweg, 1090 Wien
GEO:48.21925982;16.34809137
END:VEVENT
END:VCALENDAR