BEGIN:VCALENDAR
VERSION:2.0
PRODID:-//ERT//LNF26//DE
VERSION:2.0
BEGIN:VEVENT
UID:station_7614_20260324T160000Z
DTSTAMP:20260424T085800Z
URL:https://ert.langenachtderforschung.at/station/7614
DTSTART:20260324T160000Z
DTEND:20260424T210000Z
SUMMARY:[LNF26] Reinraumarbeiten im Isolator
DESCRIPTION:Forschung braucht Raum, dieser entsteht im neuen CTM, das ist das Center for Translational Medicine. Für die Entwicklung und Herstellung von neuen Medikamenten werden besonders reine Räume benötigt. Die Anforderung an die GMP-Fläche benötigt viel Planung und Spezialwissen. Schaut vorbei!
LOCATION:Lazarettgassenweg, 1090 Wien
GEO:48.21925982;16.34809137
END:VEVENT
END:VCALENDAR