BEGIN:VCALENDAR
VERSION:2.0
PRODID:-//ERT//LNF26//DE
VERSION:2.0
BEGIN:VEVENT
UID:station_7615_20260324T160000Z
DTSTAMP:20260424T085900Z
URL:https://ert.langenachtderforschung.at/station/7615
DTSTART:20260324T160000Z
DTEND:20260424T210000Z
SUMMARY:[LNF26] Bluttransfusion und verschiedene Bestandteile des Blutes
DESCRIPTION:Es werden verschiedene Blutkonserven gezeigt und darüber informiert wie das Blut des Menschen zusammengesetzt ist und welche Funktionen es im Körper hat. Machen Sie einen Agglutinationstest, einen Blutgruppenschnelltest oder sehen Sie sich Blutzellen mit dem Mikroskop an. Viele Krankheiten des Blutes sind heutzutage dank Forschung und medizinischer Innovationen heilbar.
LOCATION:Lazarettgassenweg, 1090 Wien
GEO:48.21925982;16.34809137
END:VEVENT
END:VCALENDAR