BEGIN:VCALENDAR
VERSION:2.0
PRODID:-//ERT//LNF26//DE
VERSION:2.0
BEGIN:VEVENT
UID:station_7626_20260324T160000Z
DTSTAMP:20260425T210900Z
URL:https://ert.langenachtderforschung.at/station/7626
DTSTART:20260324T160000Z
DTEND:20260424T210000Z
SUMMARY:[LNF26] Wie können Daten und Sensoren Ernten vor Dürre schützen?
DESCRIPTION:Das Green Sentry Projekt entwickelt ein integriertes System zur Dürrebewältigung in der Landwirtschaft. Ein LoRaWAN-Bodensensornetz erfasst kontinuierlich Feuchte- und Umweltdaten, ergänzt durch automatisierte Wurzel-Phänotypisierung zur Analyse von Wurzelsystemen. In Kombination mit wasserbindenden Hydrogelen ermöglicht dies eine präzise, ressourcenschonende Bewässerung und stabilisiert langfristig Erträge.
LOCATION:Campus 1, 7000 Eisenstadt
GEO:47.82956920;16.53580785
END:VEVENT
END:VCALENDAR