BEGIN:VCALENDAR
VERSION:2.0
PRODID:-//ERT//LNF26//DE
VERSION:2.0
BEGIN:VEVENT
UID:station_7635_20260324T160000Z
DTSTAMP:20260420T002500Z
URL:https://ert.langenachtderforschung.at/station/7635
DTSTART:20260324T160000Z
DTEND:20260424T210000Z
SUMMARY:[LNF26] DIGITAL: Wie können wir kranke Weinreben mit Künstlicher Intelligenz erkennen?
DESCRIPTION:Weinreben können krank werden und ganze Weingärten bedrohen. Mit VinoMon nutzen wir Drohnen und KI, um jede Pflanze genau zu beobachten. So erkennen wir Krankheiten früh und helfen Winzerinnen und Winzern, schnell zu handeln. Das schützt die Reben – und sorgt für gesunde Trauben und guten Wein.
LOCATION:Steyrergasse 17 DIGITAL Institut für Digitale Technologien, 8010 Graz
GEO:47.06404490;15.45319840
END:VEVENT
END:VCALENDAR