BEGIN:VCALENDAR
VERSION:2.0
PRODID:-//ERT//LNF26//DE
VERSION:2.0
BEGIN:VEVENT
UID:station_7640_20260324T160000Z
DTSTAMP:20260420T002500Z
URL:https://ert.langenachtderforschung.at/station/7640
DTSTART:20260324T160000Z
DTEND:20260424T210000Z
SUMMARY:[LNF26] Welche modernen Themen werden in der Luftfahrt heute erforscht?
DESCRIPTION:An dieser Mitmachstation erleben Sie einen Simulatorflug über Graz mit dem JFS². Beim „Unboxing: Blackbox“ lernen Sie den Aufbau eines Flugdatenschreibers kennen. Im Bereich 3D-Druck sehen Sie Beispiele aus dem Leichtbau in der Luftfahrt.
LOCATION:Eggenberger Allee 11+13, Eckertstraße 7a+30i, 8020 Graz
GEO:47.06940355;15.40670826
END:VEVENT
END:VCALENDAR