BEGIN:VCALENDAR
VERSION:2.0
PRODID:-//ERT//LNF26//DE
VERSION:2.0
BEGIN:VEVENT
UID:station_7650_20260324T160000Z
DTSTAMP:20260420T002500Z
URL:https://ert.langenachtderforschung.at/station/7650
DTSTART:20260324T160000Z
DTEND:20260424T210000Z
SUMMARY:[LNF26] Automatisiertes Fahren mit dem ADD Fusion: Wie sieht gelungene Kooperation zwischen Industrie und Forschung aus?
DESCRIPTION:VIRTUAL VEHICLE forscht mit Infineon zu Sensortechnologien der Zukunft. Der „ADD Fusion“ ist ein Forschungsfahrzeug und Innovationslabor, mit dem zahlreiche Hersteller und Entwickler ihre Technologien auf der Straße testen können. In einem Forschungsprojekt untersucht VIRTUAL VEHICLE einen von Infineon entwickelten, neuartigen 4D Imaging Radar mit Phased-Array-Beamforming für automatisierte Fahranwendungen.
LOCATION:Metahofgasse 16 Innenhof, 8020 Graz
GEO:47.07192924;15.42310068
END:VEVENT
END:VCALENDAR