BEGIN:VCALENDAR
VERSION:2.0
PRODID:-//ERT//LNF26//DE
VERSION:2.0
BEGIN:VEVENT
UID:station_7651_20260324T160000Z
DTSTAMP:20260420T002500Z
URL:https://ert.langenachtderforschung.at/station/7651
DTSTART:20260324T160000Z
DTEND:20260424T210000Z
SUMMARY:[LNF26] Das riecht gut! Wie bringt man einer Maschine bei, Gerüche in Echtzeit zu erkennen?
DESCRIPTION:NOSI entwickelt gemeinsam mit Infineon ein digitales Geruchssensorsystem, das Maschinen und Robotern das „Riechen“ ermöglicht. Polymerbasierte Sensoren erfassen Gerüche in Echtzeit und analysieren sie mithilfe von Machine Learning direkt am Gerät. So können Schwelbrände frühzeitig erkannt, Recyclingprozesse verbessert oder Pflegeeinrichtungen unterstützt werden; energieeffizient, IoT-fähig und datenschutzkonform.
LOCATION:Metahofgasse 16 Innenhof, 8020 Graz
GEO:47.07192924;15.42310068
END:VEVENT
END:VCALENDAR