BEGIN:VCALENDAR
VERSION:2.0
PRODID:-//ERT//LNF26//DE
VERSION:2.0
BEGIN:VEVENT
UID:station_7652_20260324T160000Z
DTSTAMP:20260420T002500Z
URL:https://ert.langenachtderforschung.at/station/7652
DTSTART:20260324T160000Z
DTEND:20260424T210000Z
SUMMARY:[LNF26] Digital Health: Wie ermöglicht moderne Technik die einfache und zuverlässige Erfassung wichtiger Gesundheitsparametern für alle?
DESCRIPTION:Lassen Sie sich faszinieren von Infineons Halbleitertechnologie und entdecken Sie, wie innovative Mikrochips und Biosensoren Ihre Gesundheit stärken können! Probieren Sie spannende Anwendungen und Demos aus und erfahren Sie, wie Sie wichtige Gesundheitsparameter ganz unkompliziert von zu Hause aus erfassen. Erleben Sie, wie moderne Technik Ihr Wohlbefinden verbessert.
LOCATION:Metahofgasse 16 Innenhof, 8020 Graz
GEO:47.07192924;15.42310068
END:VEVENT
END:VCALENDAR