BEGIN:VCALENDAR
VERSION:2.0
PRODID:-//ERT//LNF26//DE
VERSION:2.0
BEGIN:VEVENT
UID:station_7653_20260324T160000Z
DTSTAMP:20260420T002500Z
URL:https://ert.langenachtderforschung.at/station/7653
DTSTART:20260324T160000Z
DTEND:20260424T210000Z
SUMMARY:[LNF26] Im Takt laufen: Kann Atmung helfen?
DESCRIPTION:Wie beeinflusst Atmung das Laufen? Mit dem „Breathing Belt“ können Sie es selbst ausprobieren. Der smarte Atemgurt misst Ihren Atemrhythmus und Ihre Schrittfrequenz und gibt Ihnen Feedback, während Sie am Laufband laufen. Machen Sie beim Laufduell mit: Wer erreicht den Flow? Und welche Stadt passiert virtuell schneller die Ziellinie – Salzburg oder Graz?
LOCATION:Metahofgasse 16 Innenhof, 8020 Graz
GEO:47.07192924;15.42310068
END:VEVENT
END:VCALENDAR