BEGIN:VCALENDAR
VERSION:2.0
PRODID:-//ERT//LNF26//DE
VERSION:2.0
BEGIN:VEVENT
UID:station_7654_20260324T160000Z
DTSTAMP:20260420T002500Z
URL:https://ert.langenachtderforschung.at/station/7654
DTSTART:20260324T160000Z
DTEND:20260424T210000Z
SUMMARY:[LNF26] Kinderstation: Wie können Kinder in die spannende Welt von Robotik und Digitalisierung eintauchen und selbst zu kleinen Erfinder:innen werden?
DESCRIPTION:Robotik, Digitalisierung und echte Experimente – an unserer Kinderstation wird Technik erlebbar! Durch interaktive Stationen und kreative Aufgaben entdecken junge Tüftler:innen die Welt der Innovationen und können selbst zu kleinen Erfinder:innen werden.
LOCATION:Metahofgasse 16 Innenhof, 8020 Graz
GEO:47.07192924;15.42310068
END:VEVENT
END:VCALENDAR