BEGIN:VCALENDAR
VERSION:2.0
PRODID:-//ERT//LNF26//DE
VERSION:2.0
BEGIN:VEVENT
UID:station_7655_20260324T160000Z
DTSTAMP:20260420T002500Z
URL:https://ert.langenachtderforschung.at/station/7655
DTSTART:20260324T160000Z
DTEND:20260424T200000Z
SUMMARY:[LNF26] Labor-Tour: Wie wird ein Mikrochip auf Herz und Nieren geprüft und getestet?
DESCRIPTION:Wie wird sichergestellt, dass Mikrochips zuverlässig funktionieren? Bei der exklusiven Labor-Tour erhalten Sie seltene Einblicke in die Welt der Messtechnik. Entdecken Sie hochmoderne Testgeräte und erfahren Sie, wie selbst kleinste Chips große Herausforderungen meistern.
LOCATION:Metahofgasse 16 Innenhof, 8020 Graz
GEO:47.07192924;15.42310068
END:VEVENT
END:VCALENDAR