BEGIN:VCALENDAR
VERSION:2.0
PRODID:-//ERT//LNF26//DE
VERSION:2.0
BEGIN:VEVENT
UID:station_7656_20260324T160000Z
DTSTAMP:20260420T002500Z
URL:https://ert.langenachtderforschung.at/station/7656
DTSTART:20260324T160000Z
DTEND:20260424T193000Z
SUMMARY:[LNF26] Löten : Wie baue ich meine eigene elektronische Schaltung?
DESCRIPTION:Elektrische Schaltungen selbst bauen? Mit unserem Infineon Lötkit kein Problem! Sammeln Sie erste Löterfahrungen, die die Applikation unserer Halbleiterchips ermöglichen. Verbinden Sie metallische Werkstücke und nehmen Sie Ihr Ergebnis als Andenken mit nach Hause.
LOCATION:Metahofgasse 16 Innenhof, 8020 Graz
GEO:47.07192924;15.42310068
END:VEVENT
END:VCALENDAR