BEGIN:VCALENDAR
VERSION:2.0
PRODID:-//ERT//LNF26//DE
VERSION:2.0
BEGIN:VEVENT
UID:station_7657_20260324T160000Z
DTSTAMP:20260420T002500Z
URL:https://ert.langenachtderforschung.at/station/7657
DTSTART:20260324T160000Z
DTEND:20260424T210000Z
SUMMARY:[LNF26] Mikrochip-Fertigung: Wie entsteht ein Chip?
DESCRIPTION:1 mm² voller Know-how: Wir zeigen die notwendigen Schritte vom Konzept bis zum fertigen High-Tech-Mikrochip und welche spannenden Aufgaben dabei von den Mitarbeiterinnen und Mitarbeitern bei Infineon gemeistert werden.
LOCATION:Metahofgasse 16 Innenhof, 8020 Graz
GEO:47.07192924;15.42310068
END:VEVENT
END:VCALENDAR