BEGIN:VCALENDAR
VERSION:2.0
PRODID:-//ERT//LNF26//DE
VERSION:2.0
BEGIN:VEVENT
UID:station_7658_20260324T160000Z
DTSTAMP:20260420T002500Z
URL:https://ert.langenachtderforschung.at/station/7658
DTSTART:20260324T160000Z
DTEND:20260424T210000Z
SUMMARY:[LNF26] Robotik: Was steckt hinter den Fähigkeiten moderner Roboter?
DESCRIPTION:Roboter bewegen, denken und sehen – und meistern beeindruckende Aufgaben im Alltag! Treffen Sie verschiedene Robotertypen, erleben Sie spannende Demos und entdecken Sie, wie Roboter mithilfe modernster Technologie ihre erstaunlichen Fähigkeiten entfalten. Finden Sie heraus, wie Infineon-Technologie Roboter antreibt und ihren Einsatz in Industrie, Haushalt und Forschung möglich macht!
LOCATION:Metahofgasse 16 Innenhof, 8020 Graz
GEO:47.07192924;15.42310068
END:VEVENT
END:VCALENDAR