BEGIN:VCALENDAR
VERSION:2.0
PRODID:-//ERT//LNF26//DE
VERSION:2.0
BEGIN:VEVENT
UID:station_7659_20260324T160000Z
DTSTAMP:20260420T002500Z
URL:https://ert.langenachtderforschung.at/station/7659
DTSTART:20260324T160000Z
DTEND:20260424T193000Z
SUMMARY:[LNF26] UWB Application Lab: Was befindet sich im Ultra-Wideband Labor?
DESCRIPTION:Wie kann der Zugang zu Fahrzeugen so sicher gestaltet werden, dass Manipulation nahezu unmöglich ist? Wie lassen sich tragische Vorfälle verhindern, bei denen Kinder in Fahrzeugen zurückgelassen werden? Oder wie findet man in riesigen Lagerhallen genau das Werkzeug, das man gerade benötigt?\nAntworten auf diese und viele weitere Fragen entstehen in unserem, im Herbst 2025 neu eröffneten, UWB Application Lab in Graz.
LOCATION:Metahofgasse 16 Innenhof, 8020 Graz
GEO:47.07192924;15.42310068
END:VEVENT
END:VCALENDAR