BEGIN:VCALENDAR
VERSION:2.0
PRODID:-//ERT//LNF26//DE
VERSION:2.0
BEGIN:VEVENT
UID:station_7660_20260324T160000Z
DTSTAMP:20260420T002500Z
URL:https://ert.langenachtderforschung.at/station/7660
DTSTART:20260324T160000Z
DTEND:20260424T210000Z
SUMMARY:[LNF26] Wie wird E Mobilität zum Motor für eine grünere Zukunft?
DESCRIPTION:Grüne Fahrt voraus mit dem E-Kart von Infineon! Erfahren Sie, wie unsere elektrische Antriebstechnologie die Zukunft der Mobilität prägt und gleichzeitig unsere Umwelt schützt. Unsere Expert:innen geben Ihnen spannende Einblicke in die Innovationen, die die Grenzen der Elektromobilität erweitern. Lassen Sie sich von uns in die Zukunft der E-Mobilität entführen!
LOCATION:Metahofgasse 16 Innenhof, 8020 Graz
GEO:47.07192924;15.42310068
END:VEVENT
END:VCALENDAR