BEGIN:VCALENDAR
VERSION:2.0
PRODID:-//ERT//LNF26//DE
VERSION:2.0
BEGIN:VEVENT
UID:station_767_20260324T160000Z
DTSTAMP:20260421T135000Z
URL:https://ert.langenachtderforschung.at/station/767
DTSTART:20260324T160000Z
DTEND:20260424T210000Z
SUMMARY:[LNF26] Was können neue Holzbauwerkstoffe leisten?
DESCRIPTION:Erleben Sie Materialtests live! Tauchen Sie ein in die Welt nachhaltiger Werkstoffe für den mehrgeschoßigen Hausbau in der Stadt. Wie stabil sind sie? Wie verhalten Sie sich bei Belastungen? Wie unterscheiden sie sich von anderen konventionellen Baustoffen?
LOCATION:Konrad Lorenz Straße 24, 3430 Tulln
GEO:48.32077312;16.06863138
END:VEVENT
END:VCALENDAR