BEGIN:VCALENDAR
VERSION:2.0
PRODID:-//ERT//LNF26//DE
VERSION:2.0
BEGIN:VEVENT
UID:station_769_20260324T160000Z
DTSTAMP:20260424T154300Z
URL:https://ert.langenachtderforschung.at/station/769
DTSTART:20260324T160000Z
DTEND:20260424T200000Z
SUMMARY:[LNF26] Proteine im Ungleichgewicht: Ein Booster für Altern und neurodegenerative Erkrankungen?
DESCRIPTION:Proteine haben im menschlichen Körper zahlreiche Funktionen. Molekulare Prozesse wie Proteinbildung, Proteinabbau, Proteinfaltung sowie der zelluläre Ort der Proteinwirkung müssen gut koordiniert werden. Besucher:innen haben die Möglichkeit sich über die Rolle des Proteingleichgewichtes in Altern und Erkrankungen zu informieren, einfache Modellsysteme zur Untersuchung dieser Aspekte kennenzulernen und zu diskutieren.
LOCATION:Förthofstraße 2 - 4, 3500 Krems-Stein
GEO:48.39900976;15.57130158
END:VEVENT
END:VCALENDAR