BEGIN:VCALENDAR
VERSION:2.0
PRODID:-//ERT//LNF26//DE
VERSION:2.0
BEGIN:VEVENT
UID:station_778_20260424T173000Z
DTSTAMP:20260424T103000Z
URL:https://ert.langenachtderforschung.at/station/778
DTSTART:20260424T173000Z
DTEND:20260424T174000Z
SUMMARY:[LNF26] Wie funktioniert ein chemisches Raketentriebwerk?
DESCRIPTION:Das chemische Triebwerk verbrennt Propan und Sauerstoff und die heißen Gase treten durch die Düse aus. Durch dieses Rückstoßprinzip wird die Rakete beschleunigt. Es wird ein Schub von bis zu 50 Newton (Gewichtskraft von 8 Basketbällen) erzeugt. Bei diesem Experiment wird Hochspannung verwendet, um das Gas-Luft-Gemisch ähnlich wie beim Auto zu zünden.
LOCATION:Viktor Kaplan Strasse 2 TFZ, 2700 Wiener Neustadt
GEO:47.83725022;16.25247860
END:VEVENT
END:VCALENDAR