BEGIN:VCALENDAR
VERSION:2.0
PRODID:-//ERT//LNF26//DE
VERSION:2.0
BEGIN:VEVENT
UID:station_79_20260324T160000Z
DTSTAMP:20260421T162000Z
URL:https://ert.langenachtderforschung.at/station/79
DTSTART:20260324T160000Z
DTEND:20260424T210000Z
SUMMARY:[LNF26] Was verstehen wir unter Hightech-Maschinenbau?
DESCRIPTION:Wir öffnen unser hochmodernes Trainingscenter! Auf über 800 m² erwarten Sie voll funktionsfähige Produktionsanlagen, Testaufbauten wichtiger Komponenten sowie modern ausgestattete Schulungsräume. Mit Unterstützung unseres Trainer:innen-Teams können Sie auf Tuchfühlung mit der Technik gehen und einen Blick in das Innenleben unserer Maschinen werfen.
LOCATION:DI Erich Thallner Straße 1, 4782 St. Florian am Inn
GEO:48.43049621;13.44500721
END:VEVENT
END:VCALENDAR