BEGIN:VCALENDAR
VERSION:2.0
PRODID:-//ERT//LNF26//DE
VERSION:2.0
BEGIN:VEVENT
UID:station_794_20260324T160000Z
DTSTAMP:20260421T002100Z
URL:https://ert.langenachtderforschung.at/station/794
DTSTART:20260324T160000Z
DTEND:20260424T210000Z
SUMMARY:[LNF26] Was verbirgt sich hier unter der Oberfläche?
DESCRIPTION:Mithilfe von geophysikalischen Prospektionen ist es möglich, in den Boden zu schauen. Mit unterschiedlichen Methoden können Jahrtausende Jahre alte Reste von Siedlungen aber auch Gräbern in Lage, Ausdehnung und Struktur sichtbar gemacht werden. Damit werden diese der Fachwelt aber auch der Öffentlichkeit bekannt und es können für deren Erhalt und genauere Erforschung Maßnahmen getroffen werden.
LOCATION:Schlossgasse 1, 2151 Asparn/Zaya
GEO:48.58882465;16.49122819
END:VEVENT
END:VCALENDAR