BEGIN:VCALENDAR
VERSION:2.0
PRODID:-//ERT//LNF26//DE
VERSION:2.0
BEGIN:VEVENT
UID:station_796_20260324T160000Z
DTSTAMP:20260421T020300Z
URL:https://ert.langenachtderforschung.at/station/796
DTSTART:20260324T160000Z
DTEND:20260424T210000Z
SUMMARY:[LNF26] Warum waren Pferde durch die Zeiten hindurch so wichtig für die Menschen?
DESCRIPTION:Bei diesem Memory-Spiel spielen das Pferd und seine Bedeutung für die Menschen die Hauptrolle. Aber Achtung: Diesmal sind die zusammengehörigen Kärtchen nicht gleich! Nur wer sich sowohl die Platzierung der Kärtchen als auch die inhaltlichen Zusammenhänge merken kann, gewinnt. Nebenbei erfährst du jede Menge Wissenswertes und Kurioses über das Pferd im Lauf der Geschichte.
LOCATION:Schlossgasse 1, 2151 Asparn/Zaya
GEO:48.58882465;16.49122819
END:VEVENT
END:VCALENDAR