BEGIN:VCALENDAR
VERSION:2.0
PRODID:-//ERT//LNF26//DE
VERSION:2.0
BEGIN:VEVENT
UID:station_797_20260324T160000Z
DTSTAMP:20260421T002100Z
URL:https://ert.langenachtderforschung.at/station/797
DTSTART:20260324T160000Z
DTEND:20260424T210000Z
SUMMARY:[LNF26] Wie sieht es in einer Restaurierungswerkstätte aus?
DESCRIPTION:In der Restaurierungswerkstätte machen wir aus vielen kleinen Scherben wieder ein Ganzes! Wir erzählen Ihnen, welche Mittel und Werkzeuge wir zur Verfügung haben, um aus vielen Tonscherben wieder ein Keramikgefäß zu machen.\nSchlüpfen Sie selbst in die Rolle einer Restauratorin oder eines Restaurators: Sie können sich am Kleben von Keramikscherben versuchen sowie ur- und frühgeschichtliche Gefäße mit Gips ergänzen.
LOCATION:Schlossgasse 1, 2151 Asparn/Zaya
GEO:48.58882465;16.49122819
END:VEVENT
END:VCALENDAR