BEGIN:VCALENDAR
VERSION:2.0
PRODID:-//ERT//LNF26//DE
VERSION:2.0
BEGIN:VEVENT
UID:station_8_20260324T160000Z
DTSTAMP:20260424T085700Z
URL:https://ert.langenachtderforschung.at/station/8
DTSTART:20260324T160000Z
DTEND:20260424T203000Z
SUMMARY:[LNF26] Querschnitt der Erde basteln
DESCRIPTION:Basteln Sie hier den Querschnitt der Erde und finden Sie heraus, wie warm es im Erdinneren ist und wie die Erdschichten heißen.
LOCATION:Viktor Kaplan Strasse 2 TFZ, 2700 Wiener Neustadt
GEO:47.83725022;16.25247860
END:VEVENT
END:VCALENDAR