BEGIN:VCALENDAR
VERSION:2.0
PRODID:-//ERT//LNF26//DE
VERSION:2.0
BEGIN:VEVENT
UID:station_80_20260324T160000Z
DTSTAMP:20260421T175700Z
URL:https://ert.langenachtderforschung.at/station/80
DTSTART:20260324T160000Z
DTEND:20260424T210000Z
SUMMARY:[LNF26] Nanotechnologie trifft Reinraum - wie spielt das zusammen?
DESCRIPTION:Tauchen Sie ein in die Welt der Nano- und Mikrotechnologie! Mit modernster Messtechnik machen wir die mikroskopisch kleinen Strukturen sichtbar, die unsere Maschinen herstellen können und die mit bloßem Auge nicht zu erkennen sind. Werfen Sie einen exklusiven Blick in unsere hochmodernen Reinräume mit aufwändiger Klima- und Filtertechnik.
LOCATION:DI Erich Thallner Straße 1, 4782 St. Florian am Inn
GEO:48.43049621;13.44500721
END:VEVENT
END:VCALENDAR