BEGIN:VCALENDAR
VERSION:2.0
PRODID:-//ERT//LNF26//DE
VERSION:2.0
BEGIN:VEVENT
UID:station_801_20260324T160000Z
DTSTAMP:20260421T002100Z
URL:https://ert.langenachtderforschung.at/station/801
DTSTART:20260324T160000Z
DTEND:20260424T210000Z
SUMMARY:[LNF26] Weshalb liegt das archäologische Erbe im Depot und nicht in der Öffentlichkeit?
DESCRIPTION:Die Station erlaubt Einblick in einen sonst nicht öffentlichen musealen Arbeitsbereich. Sie zeigt den systematisch nach archäologischen Kriterien geführten Sammlungsbestand und vermittelt, dass ein Depot keine unsortierte Fundansammlung ist, sondern ein organisatorisch und technisch komplexer Bereich, der geeignete Infrastruktur, Betreuung und wissenschaftliche Begleitung erfordert.
LOCATION:Schlossgasse 1, 2151 Asparn/Zaya
GEO:48.58882465;16.49122819
END:VEVENT
END:VCALENDAR