BEGIN:VCALENDAR
VERSION:2.0
PRODID:-//ERT//LNF26//DE
VERSION:2.0
BEGIN:VEVENT
UID:station_81_20260324T160000Z
DTSTAMP:20260421T180000Z
URL:https://ert.langenachtderforschung.at/station/81
DTSTART:20260324T160000Z
DTEND:20260424T210000Z
SUMMARY:[LNF26] Wo gibt es spannende Technik für kleine und große Entdecker:innen?
DESCRIPTION:Wie entstehen Mikrochips? Was sind eigentlich Wafer? Und welche Rolle spielt EVG dabei?\nAll diese Fragen beantworten unsere Expert:innen auf spielerische und verständliche Weise. An verschiedenen Mitmachstationen können kleine und große Entdecker:innen bei einem 1,2 oder 3 Spiel im EVG Style aktiv werden, an Elektrobaukästen experimentieren und durch spannende Puzzle und Memoryspiele in die Welt von EVG eintauchen.
LOCATION:DI Erich Thallner Straße 1, 4782 St. Florian am Inn
GEO:48.43049621;13.44500721
END:VEVENT
END:VCALENDAR