BEGIN:VCALENDAR
VERSION:2.0
PRODID:-//ERT//LNF26//DE
VERSION:2.0
BEGIN:VEVENT
UID:station_86_20260324T160000Z
DTSTAMP:20260424T102200Z
URL:https://ert.langenachtderforschung.at/station/86
DTSTART:20260324T160000Z
DTEND:20260424T203000Z
SUMMARY:[LNF26] Laborrundgang Tribologie
DESCRIPTION:Im Rahmen eines rund halbstündigen Laborrundgangs zu den Themen „Schmierstoffcharakterisierung“ und „Reibungs- und Verschleißexperimente“ lernen die Besucher unterschiedliche Geräte und Experimente zum Themenbereich kennen und können Fragen hierzu an Expertinnen und Experten stellen.
LOCATION:Viktor Kaplan Strasse 2 TFZ, 2700 Wiener Neustadt
GEO:47.83725022;16.25247860
END:VEVENT
END:VCALENDAR