BEGIN:VCALENDAR
VERSION:2.0
PRODID:-//ERT//LNF26//DE
VERSION:2.0
BEGIN:VEVENT
UID:station_886_20260324T160000Z
DTSTAMP:20260420T051800Z
URL:https://ert.langenachtderforschung.at/station/886
DTSTART:20260324T160000Z
DTEND:20260424T200000Z
SUMMARY:[LNF26] Wild Textiles - Wie kann Materialforschung mit Bioabfall &amp; Naturprozessen neue Formen von Textilien ermöglichen
DESCRIPTION:Wild Textiles erforscht die Verwendung von Bioabfällen als Rohstoff für Naturprozesse zur Entwicklung neuer Materialien und deren Anwendungen. Anhand von Materialproben zeigen wir, wie dieser Rohstoff in funktionale Materialien umgewandelt wird und damit Kreislaufwirtschaftsmodelle sowie regenerative Produktionsmethoden als Alternative zu extraktiven Verfahren unterstützt.
LOCATION:Frauentorgasse 72-74, 3430 Tulln
GEO:48.31857600;16.05586298
END:VEVENT
END:VCALENDAR