BEGIN:VCALENDAR
VERSION:2.0
PRODID:-//ERT//LNF26//DE
VERSION:2.0
BEGIN:VEVENT
UID:station_928_20260324T160000Z
DTSTAMP:20260422T221400Z
URL:https://ert.langenachtderforschung.at/station/928
DTSTART:20260324T160000Z
DTEND:20260424T210000Z
SUMMARY:[LNF26] Enzyme im Bier &amp; Nahrungsmittelintoleranzen (Enzyme und Histamin bzw. Gluten in Lebensmitteln am Beispiel Bier)
DESCRIPTION:Beschwerden nach Biergenuss? Könnte das am Histamin- oder Glutengehalt des Bieres liegen? Wie kommen Histamin und Gluten ins Bier und welche Rolle spielen dabei Enzyme?
LOCATION:Konrad Lorenz Straße 10, 3430 Tulln
GEO:48.32043157;16.06446745
END:VEVENT
END:VCALENDAR