BEGIN:VCALENDAR
VERSION:2.0
PRODID:-//ERT//LNF26//DE
VERSION:2.0
BEGIN:VEVENT
UID:station_938_20260424T160000Z
DTSTAMP:20260424T134900Z
URL:https://ert.langenachtderforschung.at/station/938
DTSTART:20260424T160000Z
DTEND:20260424T170000Z
SUMMARY:[LNF26] Escape Room &#34;Der Traum der Archivarin&#34;
DESCRIPTION:Mit “Der Traum der Archivarin” präsentiert das Archiv der Zeitgenossen in Zusammenarbeit mit dem Zentrum für Angewandte Spieleforschung eine innovative Variante des erfolgreichen Spielformats der „Live Escape Rooms“: Eine Spurensuche anhand von Dokumenten und Materialien aus dem Archiv der Zeitgenossen.
LOCATION:Dr. Karl-Dorrek-Straße 30, 3500 Krems
GEO:48.40830956;15.58515436
END:VEVENT
END:VCALENDAR