BEGIN:VCALENDAR
VERSION:2.0
PRODID:-//ERT//LNF26//DE
VERSION:2.0
BEGIN:VEVENT
UID:station_969_20260324T160000Z
DTSTAMP:20260420T003000Z
URL:https://ert.langenachtderforschung.at/station/969
DTSTART:20260324T160000Z
DTEND:20260424T210000Z
SUMMARY:[LNF26] Wie tanzt sich Demokratie?
DESCRIPTION:Bei Führungen durch die Sonderausstellung zur Geschichte der Demokratie lernen Sie mutige Persönlichkeiten kennen, die für Freiheit und Gleichheit gekämpft haben. Aber was verbindet eine Frauenrechtlerin aus der Zeit der Französischen Revolution mit der US-Sängerin Cyndi Lauper? Das und mehr erfahren Sie, wenn Sie in Tanz-Acts in Bewegung zur Musik erleben, was Demokratie bedeutet. Tanz-Workshops: 17:15 und 19:15 Uhr
LOCATION:Universitätsplatz 3 Untergeschoß, 8010 Graz
GEO:47.07774330;15.44946246
END:VEVENT
END:VCALENDAR