BEGIN:VCALENDAR
VERSION:2.0
PRODID:-//ERT//LNF26//DE
VERSION:2.0
BEGIN:VEVENT
UID:station_970_20260324T160000Z
DTSTAMP:20260420T002900Z
URL:https://ert.langenachtderforschung.at/station/970
DTSTART:20260324T160000Z
DTEND:20260424T210000Z
SUMMARY:[LNF26] Wie abenteuerlich war Polarforschung für die Pioniere im Eis?
DESCRIPTION:Alfred Wegener, von 1924 bis 1930 Professor an der Uni Graz, war einer der bedeutendsten Meteorologen und Polarforscher des 20. Jahrhunderts. Im Universitätsarchiv können Sie den Pionier im Eis auf allen seinen Grönlandexpeditionen zwischen 1906 und 1930 begleiten. Projektionen digitalisierter Original-Dias laden ein zu einer abenteuerlichen Zeitreise.
LOCATION:Universitätsplatz 3 Untergeschoß, 8010 Graz
GEO:47.07774330;15.44946246
END:VEVENT
END:VCALENDAR