BEGIN:VCALENDAR
VERSION:2.0
PRODID:-//ERT//LNF26//DE
VERSION:2.0
BEGIN:VEVENT
UID:station_977_20260324T160000Z
DTSTAMP:20260420T145300Z
URL:https://ert.langenachtderforschung.at/station/977
DTSTART:20260324T160000Z
DTEND:20260424T210000Z
SUMMARY:[LNF26] Wie verändern soziale Medien die Realität?
DESCRIPTION:Was wir in Social Media sehen, hängt von unserem Online-Verhalten ab. Algorithmen erkennen unsere Stimmungen und Vorlieben und füttern uns mit den dazu passenden Informationen. An der interaktiven Station erfahren Sie hautnah, wie soziale Medien verschiedenen Personen unterschiedliche Versionen der Realität zeigen. Darüber hinaus können Sie ein paar Minuten lang selbst den mächtigen Algorithmus steuern.
LOCATION:Universitätsplatz 3a, 8010 Graz
GEO:47.07805140;15.45052973
END:VEVENT
END:VCALENDAR