BEGIN:VCALENDAR
VERSION:2.0
PRODID:-//ERT//LNF26//DE
VERSION:2.0
BEGIN:VEVENT
UID:station_981_20260324T160000Z
DTSTAMP:20260422T221600Z
URL:https://ert.langenachtderforschung.at/station/981
DTSTART:20260324T160000Z
DTEND:20260424T204500Z
SUMMARY:[LNF26] Was tun bei kleineren Verletzungen und wie versorgt man sie richtig?
DESCRIPTION:An dieser Station können Kinder an Puppen verschiedene Verbandstechniken ausprobieren. Aber auch Eltern und Erwachsene kommen nicht zu kurz! Sie erhalten praktische Informationen und Tipps, wie kleinere Verletzungen im Alltag optimal versorgt werden.
LOCATION:Johannes-Gutenberg-Straße 3 Innovation Lab und Area27 (J. Gutenberg-Straße 5), 2700 Wiener Neustadt
GEO:47.83811166;16.24962151
END:VEVENT
END:VCALENDAR