BEGIN:VCALENDAR
VERSION:2.0
PRODID:-//ERT//LNF26//DE
VERSION:2.0
BEGIN:VEVENT
UID:station_99_20260324T160000Z
DTSTAMP:20260424T102300Z
URL:https://ert.langenachtderforschung.at/station/99
DTSTART:20260324T160000Z
DTEND:20260424T203000Z
SUMMARY:[LNF26] Was macht ein Weltraum - Testhouse?
DESCRIPTION:Führung durch AAC-Labors: Erklären von Vakuumanlagen die zur Prüfung von Bauteilen für die Raumfahrt dienen. Dadurch soll ein Satellit 15 Jahre ohne Reparatur in dieser feindlichen Umgebung funktionieren:  keine Luft ("Vakuum"), extrem kalt im Schatten, extrem heiß in der Sonne. Dann noch Strahlung, Schwerelosigkeit und dann noch der Ritt auf der Rakete.
LOCATION:Viktor Kaplan Strasse 2 TFZ, 2700 Wiener Neustadt
GEO:47.83725022;16.25247860
END:VEVENT
END:VCALENDAR